Package: CSOA Version: 0.99.3 Command: /home/biocbuild/R/R/bin/R CMD INSTALL CSOA StartedAt: 2025-10-23 20:36:41 -0000 (Thu, 23 Oct 2025) EndedAt: 2025-10-23 20:37:30 -0000 (Thu, 23 Oct 2025) EllapsedTime: 49.1 seconds RetCode: 0 Status: OK