Package: CSOA Version: 0.99.2 Command: /home/biocbuild/R/R/bin/R CMD build --keep-empty-dirs --no-resave-data CSOA StartedAt: 2025-10-20 23:04:04 -0000 (Mon, 20 Oct 2025) EndedAt: 2025-10-20 23:07:35 -0000 (Mon, 20 Oct 2025) EllapsedTime: 211.2 seconds RetCode: 0 Status: OK PackageFile: CSOA_0.99.2.tar.gz PackageFileSize: 1.541 MiB