Package: CSOA Version: 0.99.3 Command: /home/biocbuild/bbs-3.22-bioc/R/bin/R CMD check --install=check:CSOA.install-out.txt --library=/home/biocbuild/bbs-3.22-bioc/R/site-library --timings CSOA_0.99.3.tar.gz StartedAt: 2025-10-24 22:39:05 -0400 (Fri, 24 Oct 2025) EndedAt: 2025-10-24 22:47:15 -0400 (Fri, 24 Oct 2025) EllapsedTime: 490.4 seconds RetCode: 0 Status: OK CheckDir: CSOA.Rcheck Warnings: 0