Package: CSOA Version: 0.99.3 Command: /home/biocbuild/bbs-3.22-bioc/R/bin/R CMD build --keep-empty-dirs --no-resave-data --md5 CSOA StartedAt: 2025-10-24 17:15:02 -0400 (Fri, 24 Oct 2025) EndedAt: 2025-10-24 17:17:24 -0400 (Fri, 24 Oct 2025) EllapsedTime: 142.1 seconds RetCode: 0 Status: OK PackageFile: CSOA_0.99.3.tar.gz PackageFileSize: 2.743 MiB