Package: CSOA Version: 0.99.3 Command: /Library/Frameworks/R.framework/Resources/bin/R CMD INSTALL CSOA StartedAt: 2025-10-24 15:26:40 -0400 (Fri, 24 Oct 2025) EndedAt: 2025-10-24 15:27:32 -0400 (Fri, 24 Oct 2025) EllapsedTime: 51.9 seconds RetCode: 0 Status: OK