Package: CSOA Version: 0.99.3 Command: rm -rf CSOA.buildbin-libdir && mkdir CSOA.buildbin-libdir && /Users/biocbuild/BBS/utils/build-universal.sh CSOA_0.99.3.tar.gz /Library/Frameworks/R.framework/Resources/bin/R CSOA.buildbin-libdir StartedAt: 2025-10-25 01:35:19 -0400 (Sat, 25 Oct 2025) EndedAt: 2025-10-25 01:36:15 -0400 (Sat, 25 Oct 2025) EllapsedTime: 55.4 seconds RetCode: 0 Status: OK PackageFile: CSOA_0.99.3.tgz PackageFileSize: 2.861 MiB