Package: CSOA Version: 0.99.3 Command: /Library/Frameworks/R.framework/Resources/bin/R CMD build --keep-empty-dirs --no-resave-data CSOA StartedAt: 2025-10-24 16:07:19 -0400 (Fri, 24 Oct 2025) EndedAt: 2025-10-24 16:08:22 -0400 (Fri, 24 Oct 2025) EllapsedTime: 62.7 seconds RetCode: 0 Status: OK PackageFile: CSOA_0.99.3.tar.gz PackageFileSize: 2.759 MiB