Package: CSOA Version: 0.99.3 Command: rm -rf CSOA.buildbin-libdir && mkdir CSOA.buildbin-libdir && /Users/biocbuild/BBS/utils/build-universal.sh CSOA_0.99.3.tar.gz /Library/Frameworks/R.framework/Resources/bin/R CSOA.buildbin-libdir StartedAt: 2025-10-24 22:59:27 -0400 (Fri, 24 Oct 2025) EndedAt: 2025-10-24 22:59:43 -0400 (Fri, 24 Oct 2025) EllapsedTime: 16.3 seconds RetCode: 0 Status: OK PackageFile: CSOA_0.99.3.tgz PackageFileSize: 2.841 MiB