Package: CSOA Version: 0.99.3 Maintainer: Andrei-Florian Stoica MaintainerEmail: andreistoica at foxmail.com git_url: https://git.bioconductor.org/packages/CSOA git_branch: devel git_last_commit: e6c6678 git_last_commit_date: 2025-10-22 02:13:23 -0400 (Wed, 22 Oct 2025)