Package: CSAR Version: 1.62.0 Command: /home/biocbuild/R/R/bin/R CMD INSTALL CSAR StartedAt: 2025-11-20 22:51:23 -0000 (Thu, 20 Nov 2025) EndedAt: 2025-11-20 22:51:34 -0000 (Thu, 20 Nov 2025) EllapsedTime: 11.2 seconds RetCode: 0 Status: OK