Package: CSAR Version: 1.62.0 Command: /home/biocbuild/R/R/bin/R CMD build --keep-empty-dirs --no-resave-data CSAR StartedAt: 2025-11-21 01:31:44 -0000 (Fri, 21 Nov 2025) EndedAt: 2025-11-21 01:32:11 -0000 (Fri, 21 Nov 2025) EllapsedTime: 27.0 seconds RetCode: 0 Status: OK PackageFile: CSAR_1.62.0.tar.gz PackageFileSize: 225.5 KiB