Package: CSAR Version: 1.61.1 Command: /home/biocbuild/bbs-3.22-bioc/R/bin/R CMD INSTALL CSAR StartedAt: 2025-10-24 16:09:33 -0400 (Fri, 24 Oct 2025) EndedAt: 2025-10-24 16:09:43 -0400 (Fri, 24 Oct 2025) EllapsedTime: 9.4 seconds RetCode: 0 Status: OK