Package: CSAR Version: 1.61.1 Command: /home/biocbuild/bbs-3.22-bioc/R/bin/R CMD check --install=check:CSAR.install-out.txt --library=/home/biocbuild/bbs-3.22-bioc/R/site-library --timings CSAR_1.61.1.tar.gz StartedAt: 2025-10-24 22:38:10 -0400 (Fri, 24 Oct 2025) EndedAt: 2025-10-24 22:40:51 -0400 (Fri, 24 Oct 2025) EllapsedTime: 161.1 seconds RetCode: 0 Status: OK CheckDir: CSAR.Rcheck Warnings: 0