Package: CSAR Version: 1.61.1 Command: /home/biocbuild/bbs-3.22-bioc/R/bin/R CMD build --keep-empty-dirs --no-resave-data --md5 CSAR StartedAt: 2025-10-24 17:14:36 -0400 (Fri, 24 Oct 2025) EndedAt: 2025-10-24 17:15:02 -0400 (Fri, 24 Oct 2025) EllapsedTime: 26.0 seconds RetCode: 0 Status: OK PackageFile: CSAR_1.61.1.tar.gz PackageFileSize: 234.7 KiB