Package: CSAR Version: 1.61.1 Command: /Library/Frameworks/R.framework/Resources/bin/R CMD INSTALL CSAR StartedAt: 2025-10-24 15:57:32 -0400 (Fri, 24 Oct 2025) EndedAt: 2025-10-24 15:57:46 -0400 (Fri, 24 Oct 2025) EllapsedTime: 13.9 seconds RetCode: 0 Status: OK