Package: CSAR Version: 1.61.1 Command: /Library/Frameworks/R.framework/Resources/bin/R CMD build --keep-empty-dirs --no-resave-data CSAR StartedAt: 2025-10-24 16:41:54 -0400 (Fri, 24 Oct 2025) EndedAt: 2025-10-24 16:42:31 -0400 (Fri, 24 Oct 2025) EllapsedTime: 36.6 seconds RetCode: 0 Status: OK PackageFile: CSAR_1.61.1.tar.gz PackageFileSize: 233 KiB