Package: CRImage Version: 1.58.0 Command: /home/biocbuild/R/R/bin/R CMD INSTALL CRImage StartedAt: 2025-11-13 21:18:29 -0000 (Thu, 13 Nov 2025) EndedAt: 2025-11-13 21:18:45 -0000 (Thu, 13 Nov 2025) EllapsedTime: 16.4 seconds RetCode: 0 Status: OK