Package: CRImage Version: 1.58.0 Command: /home/biocbuild/R/R/bin/R CMD build --keep-empty-dirs --no-resave-data CRImage StartedAt: 2025-11-14 00:54:47 -0000 (Fri, 14 Nov 2025) EndedAt: 2025-11-14 00:55:15 -0000 (Fri, 14 Nov 2025) EllapsedTime: 28.0 seconds RetCode: 0 Status: OK PackageFile: CRImage_1.58.0.tar.gz PackageFileSize: 7.644 MiB