Package: CRImage Version: 1.57.0 Command: /home/biocbuild/bbs-3.22-bioc/R/bin/R CMD build --keep-empty-dirs --no-resave-data --md5 CRImage StartedAt: 2025-10-24 17:12:26 -0400 (Fri, 24 Oct 2025) EndedAt: 2025-10-24 17:12:48 -0400 (Fri, 24 Oct 2025) EllapsedTime: 22.0 seconds RetCode: 0 Status: OK PackageFile: CRImage_1.57.0.tar.gz PackageFileSize: 7.657 MiB