Package: CRISPRseek Version: 1.49.2 Command: /home/biocbuild/bbs-3.22-bioc/R/bin/R CMD INSTALL CRISPRseek StartedAt: 2025-10-24 15:50:26 -0400 (Fri, 24 Oct 2025) EndedAt: 2025-10-24 15:51:06 -0400 (Fri, 24 Oct 2025) EllapsedTime: 40.5 seconds RetCode: 0 Status: OK