Package: CRISPRseek Version: 1.49.2 Command: /home/biocbuild/bbs-3.22-bioc/R/bin/R CMD build --keep-empty-dirs --no-resave-data --md5 CRISPRseek StartedAt: 2025-10-24 17:13:31 -0400 (Fri, 24 Oct 2025) EndedAt: 2025-10-24 17:15:51 -0400 (Fri, 24 Oct 2025) EllapsedTime: 140.1 seconds RetCode: 0 Status: OK PackageFile: CRISPRseek_1.49.2.tar.gz PackageFileSize: 11.84 MiB