Package: CRISPRseek Version: 1.50.0 Command: /Library/Frameworks/R.framework/Resources/bin/R CMD INSTALL CRISPRseek StartedAt: 2025-11-10 15:20:39 -0500 (Mon, 10 Nov 2025) EndedAt: 2025-11-10 15:20:56 -0500 (Mon, 10 Nov 2025) EllapsedTime: 17.0 seconds RetCode: 0 Status: OK