Package: CRISPRseek Version: 1.50.0 Command: /Library/Frameworks/R.framework/Resources/bin/R CMD build --keep-empty-dirs --no-resave-data CRISPRseek StartedAt: 2025-11-10 16:03:25 -0500 (Mon, 10 Nov 2025) EndedAt: 2025-11-10 16:04:31 -0500 (Mon, 10 Nov 2025) EllapsedTime: 65.7 seconds RetCode: 0 Status: OK PackageFile: CRISPRseek_1.50.0.tar.gz PackageFileSize: 11.83 MiB