Package: CRISPRball Version: 1.6.0 Command: /Library/Frameworks/R.framework/Resources/bin/R CMD build --keep-empty-dirs --no-resave-data CRISPRball StartedAt: 2025-11-10 16:03:04 -0500 (Mon, 10 Nov 2025) EndedAt: 2025-11-10 16:03:20 -0500 (Mon, 10 Nov 2025) EllapsedTime: 16.2 seconds RetCode: 0 Status: OK PackageFile: CRISPRball_1.6.0.tar.gz PackageFileSize: 2.614 MiB