Package: CPSM Version: 1.2.0 Command: /home/biocbuild/R/R/bin/R CMD INSTALL CPSM StartedAt: 2025-11-20 22:25:30 -0000 (Thu, 20 Nov 2025) EndedAt: 2025-11-20 22:26:15 -0000 (Thu, 20 Nov 2025) EllapsedTime: 44.7 seconds RetCode: 0 Status: OK