Package: CPSM Version: 1.2.0 Command: /home/biocbuild/R/R/bin/R CMD build --keep-empty-dirs --no-resave-data CPSM StartedAt: 2025-11-21 01:28:04 -0000 (Fri, 21 Nov 2025) EndedAt: 2025-11-21 02:08:05 -0000 (Fri, 21 Nov 2025) EllapsedTime: 2400.7 seconds RetCode: None Status: TIMEOUT PackageFile: None PackageFileSize: NA