Package: CPSM Version: 1.1.4 Command: /home/biocbuild/bbs-3.22-bioc/R/bin/R CMD INSTALL CPSM StartedAt: 2025-10-24 15:43:56 -0400 (Fri, 24 Oct 2025) EndedAt: 2025-10-24 15:44:29 -0400 (Fri, 24 Oct 2025) EllapsedTime: 32.8 seconds RetCode: 0 Status: OK