Package: CPSM Version: 1.1.4 Command: /home/biocbuild/bbs-3.22-bioc/R/bin/R CMD build --keep-empty-dirs --no-resave-data --md5 CPSM StartedAt: 2025-10-24 17:11:31 -0400 (Fri, 24 Oct 2025) EndedAt: 2025-10-24 17:14:01 -0400 (Fri, 24 Oct 2025) EllapsedTime: 150.1 seconds RetCode: 0 Status: OK PackageFile: CPSM_1.1.4.tar.gz PackageFileSize: 4.362 MiB