Package: CPSM Version: 1.1.4 Command: /Library/Frameworks/R.framework/Resources/bin/R CMD build --keep-empty-dirs --no-resave-data CPSM StartedAt: 2025-10-24 16:40:18 -0400 (Fri, 24 Oct 2025) EndedAt: 2025-10-24 16:43:21 -0400 (Fri, 24 Oct 2025) EllapsedTime: 183.6 seconds RetCode: 0 Status: OK PackageFile: CPSM_1.1.4.tar.gz PackageFileSize: 4.314 MiB