Package: CPSM Version: 1.1.4 Command: /Library/Frameworks/R.framework/Resources/bin/R CMD INSTALL CPSM StartedAt: 2025-10-24 15:21:18 -0400 (Fri, 24 Oct 2025) EndedAt: 2025-10-24 15:21:32 -0400 (Fri, 24 Oct 2025) EllapsedTime: 13.8 seconds RetCode: 0 Status: OK