Package: COTAN Version: 2.9.7 Command: /home/biocbuild/bbs-3.22-bioc/R/bin/R CMD INSTALL COTAN StartedAt: 2025-10-27 15:56:46 -0400 (Mon, 27 Oct 2025) EndedAt: 2025-10-27 15:57:33 -0400 (Mon, 27 Oct 2025) EllapsedTime: 46.4 seconds RetCode: 0 Status: OK