Package: COSNet Version: 1.43.0 Command: /home/biocbuild/R/R/bin/R CMD INSTALL COSNet StartedAt: 2025-10-23 20:23:55 -0000 (Thu, 23 Oct 2025) EndedAt: 2025-10-23 20:24:33 -0000 (Thu, 23 Oct 2025) EllapsedTime: 38.8 seconds RetCode: 0 Status: OK