Package: COSNet Version: 1.43.0 Command: /home/biocbuild/R/R/bin/R CMD build --keep-empty-dirs --no-resave-data COSNet StartedAt: 2025-10-20 22:58:19 -0000 (Mon, 20 Oct 2025) EndedAt: 2025-10-20 23:04:14 -0000 (Mon, 20 Oct 2025) EllapsedTime: 355.1 seconds RetCode: 0 Status: OK PackageFile: COSNet_1.43.0.tar.gz PackageFileSize: 502.7 KiB