Package: COSNet Version: 1.43.0 Command: /Library/Frameworks/R.framework/Resources/bin/R CMD INSTALL COSNet StartedAt: 2025-10-24 15:06:54 -0400 (Fri, 24 Oct 2025) EndedAt: 2025-10-24 15:07:05 -0400 (Fri, 24 Oct 2025) EllapsedTime: 11.3 seconds RetCode: 0 Status: OK