Package: COSNet Version: 1.43.0 Command: /Library/Frameworks/R.framework/Resources/bin/R CMD build --keep-empty-dirs --no-resave-data COSNet StartedAt: 2025-10-24 16:04:50 -0400 (Fri, 24 Oct 2025) EndedAt: 2025-10-24 16:08:45 -0400 (Fri, 24 Oct 2025) EllapsedTime: 235.6 seconds RetCode: 0 Status: OK PackageFile: COSNet_1.43.0.tar.gz PackageFileSize: 519.8 KiB