Package: CONSTANd Version: 1.18.0 Command: /Library/Frameworks/R.framework/Resources/bin/R CMD build --keep-empty-dirs --no-resave-data CONSTANd StartedAt: 2025-11-10 16:01:13 -0500 (Mon, 10 Nov 2025) EndedAt: 2025-11-10 16:01:18 -0500 (Mon, 10 Nov 2025) EllapsedTime: 5.1 seconds RetCode: 0 Status: OK PackageFile: CONSTANd_1.18.0.tar.gz PackageFileSize: 1.696 MiB