Package: CONFESS Version: 1.38.0 Command: /Library/Frameworks/R.framework/Resources/bin/R CMD build --keep-empty-dirs --no-resave-data CONFESS StartedAt: 2025-11-10 16:00:45 -0500 (Mon, 10 Nov 2025) EndedAt: 2025-11-10 16:02:08 -0500 (Mon, 10 Nov 2025) EllapsedTime: 82.9 seconds RetCode: 0 Status: OK PackageFile: CONFESS_1.38.0.tar.gz PackageFileSize: 3.588 MiB