Package: CONFESS Version: 1.38.0 Command: rm -rf CONFESS.buildbin-libdir && mkdir CONFESS.buildbin-libdir && /Users/biocbuild/BBS/utils/build-universal.sh CONFESS_1.38.0.tar.gz /Library/Frameworks/R.framework/Resources/bin/R CONFESS.buildbin-libdir StartedAt: 2025-11-10 23:15:52 -0500 (Mon, 10 Nov 2025) EndedAt: 2025-11-10 23:16:27 -0500 (Mon, 10 Nov 2025) EllapsedTime: 35.6 seconds RetCode: 0 Status: OK PackageFile: CONFESS_1.38.0.tgz PackageFileSize: 3.117 MiB