Package: COMPASS Version: 1.48.0 Command: /home/biocbuild/bbs-3.22-bioc/R/bin/R CMD check --install=check:COMPASS.install-out.txt --library=/home/biocbuild/bbs-3.22-bioc/R/site-library --timings COMPASS_1.48.0.tar.gz StartedAt: 2025-10-30 22:16:51 -0400 (Thu, 30 Oct 2025) EndedAt: 2025-10-30 22:22:40 -0400 (Thu, 30 Oct 2025) EllapsedTime: 349.3 seconds RetCode: 0 Status: OK CheckDir: COMPASS.Rcheck Warnings: 0