Package: COMPASS Version: 1.47.0 Command: /Library/Frameworks/R.framework/Resources/bin/R CMD build --keep-empty-dirs --no-resave-data COMPASS StartedAt: 2025-10-24 16:37:07 -0400 (Fri, 24 Oct 2025) EndedAt: 2025-10-24 16:43:25 -0400 (Fri, 24 Oct 2025) EllapsedTime: 377.6 seconds RetCode: 0 Status: OK PackageFile: COMPASS_1.47.0.tar.gz PackageFileSize: 1.305 MiB