Package: COMPASS Version: 1.47.0 Command: rm -rf COMPASS.buildbin-libdir && mkdir COMPASS.buildbin-libdir && /Users/biocbuild/BBS/utils/build-universal.sh COMPASS_1.47.0.tar.gz /Library/Frameworks/R.framework/Resources/bin/R COMPASS.buildbin-libdir StartedAt: 2025-10-25 01:34:11 -0400 (Sat, 25 Oct 2025) EndedAt: 2025-10-25 01:34:37 -0400 (Sat, 25 Oct 2025) EllapsedTime: 25.6 seconds RetCode: 0 Status: OK PackageFile: COMPASS_1.47.0.tgz PackageFileSize: 1.419 MiB