Package: COMPASS Version: 1.47.0 Command: rm -rf COMPASS.buildbin-libdir && mkdir COMPASS.buildbin-libdir && /Users/biocbuild/BBS/utils/build-universal.sh COMPASS_1.47.0.tar.gz /Library/Frameworks/R.framework/Resources/bin/R COMPASS.buildbin-libdir StartedAt: 2025-10-24 22:58:34 -0400 (Fri, 24 Oct 2025) EndedAt: 2025-10-24 22:58:41 -0400 (Fri, 24 Oct 2025) EllapsedTime: 7.1 seconds RetCode: 0 Status: OK PackageFile: COMPASS_1.47.0.tgz PackageFileSize: 1.421 MiB