Package: COMPASS Version: 1.48.0 Maintainer: Greg Finak MaintainerEmail: gfinak at fhcrc.org git_url: https://git.bioconductor.org/packages/COMPASS git_branch: RELEASE_3_22 git_last_commit: 70d9f7d git_last_commit_date: 2025-10-29 10:18:03 -0400 (Wed, 29 Oct 2025)