Package: CODEX Version: 1.41.0 Command: /home/biocbuild/bbs-3.22-bioc/R/bin/R CMD build --keep-empty-dirs --no-resave-data --md5 CODEX StartedAt: 2025-10-27 16:57:29 -0400 (Mon, 27 Oct 2025) EndedAt: 2025-10-27 16:59:13 -0400 (Mon, 27 Oct 2025) EllapsedTime: 104.1 seconds RetCode: 0 Status: OK PackageFile: CODEX_1.41.0.tar.gz PackageFileSize: 916.8 KiB