Package: CODEX Version: 1.42.0 Command: /Library/Frameworks/R.framework/Resources/bin/R CMD INSTALL CODEX StartedAt: 2025-10-31 15:22:59 -0400 (Fri, 31 Oct 2025) EndedAt: 2025-10-31 15:23:12 -0400 (Fri, 31 Oct 2025) EllapsedTime: 13.0 seconds RetCode: 0 Status: OK