Package: CODEX Version: 1.42.0 Command: /Library/Frameworks/R.framework/Resources/bin/R CMD build --keep-empty-dirs --no-resave-data CODEX StartedAt: 2025-11-03 15:59:29 -0500 (Mon, 03 Nov 2025) EndedAt: 2025-11-03 16:00:15 -0500 (Mon, 03 Nov 2025) EllapsedTime: 45.5 seconds RetCode: 0 Status: OK PackageFile: CODEX_1.42.0.tar.gz PackageFileSize: 914.2 KiB