Package: CODEX Version: 1.42.0 Command: rm -rf CODEX.buildbin-libdir && mkdir CODEX.buildbin-libdir && /Users/biocbuild/BBS/utils/build-universal.sh CODEX_1.42.0.tar.gz /Library/Frameworks/R.framework/Resources/bin/R CODEX.buildbin-libdir StartedAt: 2025-11-03 23:00:13 -0500 (Mon, 03 Nov 2025) EndedAt: 2025-11-03 23:00:28 -0500 (Mon, 03 Nov 2025) EllapsedTime: 15.3 seconds RetCode: 0 Status: OK PackageFile: CODEX_1.42.0.tgz PackageFileSize: 1.324 MiB