Package: COCOA Version: 2.23.1 Command: /Library/Frameworks/R.framework/Resources/bin/R CMD INSTALL COCOA StartedAt: 2025-10-26 15:17:49 -0400 (Sun, 26 Oct 2025) EndedAt: 2025-10-26 15:18:08 -0400 (Sun, 26 Oct 2025) EllapsedTime: 18.3 seconds RetCode: 0 Status: OK