Package: COCOA Version: 2.23.1 Command: /Library/Frameworks/R.framework/Resources/bin/R CMD build --keep-empty-dirs --no-resave-data COCOA StartedAt: 2025-10-26 16:00:49 -0400 (Sun, 26 Oct 2025) EndedAt: 2025-10-26 16:01:33 -0400 (Sun, 26 Oct 2025) EllapsedTime: 44.5 seconds RetCode: 0 Status: OK PackageFile: COCOA_2.23.1.tar.gz PackageFileSize: 3.466 MiB