Package: CNVrd2 Version: 1.47.0 Command: /home/biocbuild/bbs-3.22-bioc/R/bin/R CMD INSTALL CNVrd2 StartedAt: 2025-10-24 15:56:29 -0400 (Fri, 24 Oct 2025) EndedAt: 2025-10-24 15:57:10 -0400 (Fri, 24 Oct 2025) EllapsedTime: 40.4 seconds RetCode: 0 Status: OK